BEGIN:VCALENDAR
VERSION:2.0
PRODID:-//GPO Guam - ECPv6.0.12//NONSGML v1.0//EN
CALSCALE:GREGORIAN
METHOD:PUBLISH
X-WR-CALNAME:GPO Guam
X-ORIGINAL-URL:https://gpoguam.com
X-WR-CALDESC:Events for GPO Guam
REFRESH-INTERVAL;VALUE=DURATION:PT1H
X-Robots-Tag:noindex
X-PUBLISHED-TTL:PT1H
BEGIN:VTIMEZONE
TZID:Pacific/Guam
BEGIN:STANDARD
TZOFFSETFROM:+1000
TZOFFSETTO:+1000
TZNAME:ChST
DTSTART:20190101T000000
END:STANDARD
END:VTIMEZONE
BEGIN:VEVENT
DTSTART;VALUE=DATE:20190408
DTEND;VALUE=DATE:20190415
DTSTAMP:20260424T003447
CREATED:20190409T005816Z
LAST-MODIFIED:20190409T005816Z
UID:11181-1554681600-1555286399@gpoguam.com
SUMMARY:Calvin Klein Sale
DESCRIPTION:Calvin Klein Outlet & Calvin Klein Accessory Store\n \nWeekly Promotion\n4.8.2019 – 4.14.2019\n*Some Exclusions Apply \nCalvin Klein Outlet \nShop The Best Of Calvin 40% Off Entire Store \nCalvin Klein Accessory Stores \nSpring forward up to 50% off
URL:https://gpoguam.com/event/calvin-klein-sale-13/
LOCATION:Calvin Klein
CATEGORIES:Sales
END:VEVENT
BEGIN:VEVENT
DTSTART;VALUE=DATE:20190408
DTEND;VALUE=DATE:20190501
DTSTAMP:20260424T003447
CREATED:20190408T063631Z
LAST-MODIFIED:20190408T063631Z
UID:11176-1554681600-1556668799@gpoguam.com
SUMMARY:Skechers Energy Lights Sale
DESCRIPTION:60% off all Energy Lights shoes! \nSkechers has sizes & styles for the whole family. \nWhile supplies last.
URL:https://gpoguam.com/event/skechers-energy-lights-sale/
LOCATION:Skechers
CATEGORIES:Sales
END:VEVENT
BEGIN:VEVENT
DTSTART;VALUE=DATE:20190411
DTEND;VALUE=DATE:20190415
DTSTAMP:20260424T003447
CREATED:20190411T034607Z
LAST-MODIFIED:20190411T034607Z
UID:11183-1554940800-1555286399@gpoguam.com
SUMMARY:Forever 21: Take a selfie\, Get 21% OFF
DESCRIPTION:Take a selfie and get 21% off at Forever 21! \n\nPose in your Forever 21 outfit\nTag us @forever21 #F21XME #F21XPROMO\nShow your post at the register to receive 21% off!\n\nValid from April 11 – April 14!
URL:https://gpoguam.com/event/forever-21-take-a-selfie-get-21-off/
LOCATION:Forever 21
CATEGORIES:Sales
END:VEVENT
BEGIN:VEVENT
DTSTART;VALUE=DATE:20190411
DTEND;VALUE=DATE:20190415
DTSTAMP:20260424T003447
CREATED:20190411T035224Z
LAST-MODIFIED:20190411T035549Z
UID:11188-1554940800-1555286399@gpoguam.com
SUMMARY:NATURALIZER 25% Off Sale
DESCRIPTION:For the most comfortable shoes\, visit Naturalizer located next to GUESS inside Guam Premier Outlets. \n\nNATURALIZER  \n25% off entire purchase\nApril 11 – 14\nand April 18 – 22
URL:https://gpoguam.com/event/naturalizer-25-off-sale/
LOCATION:Naturalizer
CATEGORIES:Sales
END:VEVENT
BEGIN:VEVENT
DTSTART;VALUE=DATE:20190411
DTEND;VALUE=DATE:20190502
DTSTAMP:20260424T003447
CREATED:20190124T042125Z
LAST-MODIFIED:20190124T042125Z
UID:11066-1554940800-1556755199@gpoguam.com
SUMMARY:Tommy Hilfiger Annual Spring Sale
DESCRIPTION:Annual Spring Sale  \nUp to 50% off Entire Store* \nPlus\, present this offer in-store and receive \n20% off your purchase of $150 or more or 15% off your entire purchase** \nApril 11-May 1 \n*Original store price. Excludes socks\, underwear and other select items. Not valid in Tommy Hilfiger stores in California. All styles not available at all locations. May not be available on tommy.com. **THIS OFFER EXPIRES ON 5/1/19 and is redeemable for the discount amount stated on this Offer and must be presented in-person at Tommy Hilfiger stores in the United States\, Puerto Rico\, and Guam. It may be used only once whether or not fully redeemed and must be surrendered at purchase with any remaining value of the Offer forfeited. Not redeemable for store credit or cash. The Offer may not be combined with any other promotion and has no cash value. It is not valid for previously purchased merchandise\, gift cards\, or Internet transactions. Any discount (as shown on the receipt) applied to merchandise that is returned will be deducted from any refund amount. Customer must present this posting at time of purchase to receive the Offer. Reproductions of the Offer will not be accepted. PVH associates not eligible. Not valid in department stores\, Clearance stores\, South Beach – FL\, 5th Ave. – NY\, Tommy Hilfiger stores in Canada\, or on tommy.com.  Promo Code: 500020507000
URL:https://gpoguam.com/event/tommy-hilfiger-annual-spring-sale/
LOCATION:Tommy Hilfiger
CATEGORIES:Sales
END:VEVENT
END:VCALENDAR