BEGIN:VCALENDAR
VERSION:2.0
PRODID:-//GPO Guam - ECPv6.0.12//NONSGML v1.0//EN
CALSCALE:GREGORIAN
METHOD:PUBLISH
X-ORIGINAL-URL:https://gpoguam.com
X-WR-CALDESC:Events for GPO Guam
REFRESH-INTERVAL;VALUE=DURATION:PT1H
X-Robots-Tag:noindex
X-PUBLISHED-TTL:PT1H
BEGIN:VTIMEZONE
TZID:Pacific/Guam
BEGIN:STANDARD
TZOFFSETFROM:+1000
TZOFFSETTO:+1000
TZNAME:ChST
DTSTART:20190101T000000
END:STANDARD
END:VTIMEZONE
BEGIN:VEVENT
DTSTART;VALUE=DATE:20190228
DTEND;VALUE=DATE:20190404
DTSTAMP:20260424T022513
CREATED:20190227T225254Z
LAST-MODIFIED:20190227T225254Z
UID:11121-1551312000-1554335999@gpoguam.com
SUMMARY:Famous Footwear Sale
DESCRIPTION:Sweet Sneaks Starting at $39.99 \nOffer ends April 3\, 2019.
URL:https://gpoguam.com/event/famous-footwear-sale-2/
LOCATION:Famous Footwear
CATEGORIES:Sales
END:VEVENT
BEGIN:VEVENT
DTSTART;VALUE=DATE:20190321
DTEND;VALUE=DATE:20190401
DTSTAMP:20260424T022513
CREATED:20190124T041639Z
LAST-MODIFIED:20190124T041639Z
UID:11062-1553126400-1554076799@gpoguam.com
SUMMARY:Tommy Hilfiger Friends & Family
DESCRIPTION:Friends & Family \nExclusively for Hilfiger Club \nPresent this & receive \n25% off your entire purchase* \nWhen you join the Hilfiger Club** \nSee a store associate to become a member of the club \nMarch 21 – 31 \n*THIS OFFER EXPIRES ON 3/31/19 and is redeemable for the discount amount stated on this Offer and must be presented in-person at Tommy Hilfiger stores in the United States\, Puerto Rico\, and Guam. It may be used only once whether or not fully redeemed and must be surrendered at purchase with any remaining value of the Offer forfeited. Not redeemable for store credit or cash. The Offer may not be combined with any other promotion and has no cash value. It is not valid for previously purchased merchandise or gift cards. Any discount (as shown on the receipt) applied to merchandise that is returned will be deducted from any refund amount. Customer must present this posting at time of purchase to receive the Offer. Reproductions of the Offer will not be accepted. PVH associates not eligible. Not valid in department stores\, Clearance stores\, South Beach – FL\, 5th Ave. – NY\, Tommy Hilfiger stores in Canada\, or on tommy.com. **You may later unsubscribe. The entity using information as provided above is Tommy Hilfiger U.S.A.\, Inc.\, and can be reached by mailing Tommy Hilfiger Stores\, 285 Madison Avenue New York\, NY 10017 or emailing thservice@tommy.com. Promo Code: 500020502000
URL:https://gpoguam.com/event/tommy-hilfiger-friends-family/
LOCATION:Tommy Hilfiger
CATEGORIES:Sales
END:VEVENT
BEGIN:VEVENT
DTSTART;TZID=Pacific/Guam:20190323T110000
DTEND;TZID=Pacific/Guam:20190323T150000
DTSTAMP:20260424T022513
CREATED:20190305T061640Z
LAST-MODIFIED:20190319T041315Z
UID:11129-1553338800-1553353200@gpoguam.com
SUMMARY:Chamorro Month: Traditional Medicine & Healing Demonstrations
DESCRIPTION:In celebration of Chamorro Month (Mes Chamoru)\, the healers from Guma Yo’Åmte – Håya Foundation will display forms of indigenous healing traditions including cleansing\, medicine\, massages & more. \nPlease join us in front of the Nike store from 10am – 3pm. \nWe’ll be opening with a “bendishon” (blessing). \nThis is a free\, public event. \n“Ma gutus hit gi hale’ta!\nMaila pago ya ta na a’tochi’” \n                                  – Yo’åmte Thomas Mendiola\, Rota \nWe were dis-connected from our roots!\nCome now and let’s Re-Connect! \n 
URL:https://gpoguam.com/event/chamorro-month-traditional-medicine-healing-demonstrations/
LOCATION:by Nike Store
CATEGORIES:Entertainment
END:VEVENT
END:VCALENDAR