BEGIN:VCALENDAR
VERSION:2.0
PRODID:-//GPO Guam - ECPv6.0.12//NONSGML v1.0//EN
CALSCALE:GREGORIAN
METHOD:PUBLISH
X-WR-CALNAME:GPO Guam
X-ORIGINAL-URL:https://gpoguam.com
X-WR-CALDESC:Events for GPO Guam
REFRESH-INTERVAL;VALUE=DURATION:PT1H
X-Robots-Tag:noindex
X-PUBLISHED-TTL:PT1H
BEGIN:VTIMEZONE
TZID:Pacific/Guam
BEGIN:STANDARD
TZOFFSETFROM:+1000
TZOFFSETTO:+1000
TZNAME:ChST
DTSTART:20180101T000000
END:STANDARD
END:VTIMEZONE
BEGIN:VEVENT
DTSTART;VALUE=DATE:20181107
DTEND;VALUE=DATE:20181119
DTSTAMP:20260424T092456
CREATED:20181101T004255Z
LAST-MODIFIED:20181101T013552Z
UID:10851-1541548800-1542585599@gpoguam.com
SUMMARY:Tommy Hilfiger Black Friday Presale
DESCRIPTION:Black Friday Presale \nUp to 50% off*  \nPlus\, present this offer in-store and receive \n20% off your purchase of $150+ or 15% off your entire purchase** \nNovember 7 – 18 \n*Original store price. Valid on select items. All styles not available at all locations. May not be available on tommy.com. **THIS OFFER EXPIRES ON 11/18/18 and is redeemable for an amount up to the discount stated on this Offer and must be presented in-person at Tommy Hilfiger stores in the United States\, Puerto Rico\, and Guam. It may be used only once whether or not fully redeemed and must be surrendered at purchase with any remaining value of the Offer forfeited. Not redeemable for store credit or cash. The Offer may not be combined with any other promotion and has no cash value. It is not valid for previously purchased merchandise\, gift cards\, or Internet transactions. Any discount (as shown on the receipt) applied to merchandise that is returned will be deducted from any refund amount. Customer must present card at time of purchase to receive the Offer. Reproductions of the Offer will not be accepted. PVH associates not eligible Not valid in department stores\, Clearance stores\, South Beach – FL\, 5th Ave. – NY\, Tommy Hilfiger stores in Canada\, or on tommy.com. Promo Code: 500019918000
URL:https://gpoguam.com/event/tommy-hilfiger-black-friday-presale/
CATEGORIES:Sales
END:VEVENT
BEGIN:VEVENT
DTSTART;VALUE=DATE:20181115
DTEND;VALUE=DATE:20181119
DTSTAMP:20260424T092456
CREATED:20181115T005555Z
LAST-MODIFIED:20181115T005555Z
UID:10890-1542240000-1542585599@gpoguam.com
SUMMARY:Calvin Klein Sale
DESCRIPTION:Calvin Klein Outlet & Calvin Klein Accessory Stores \n11.15.18 – 11.18.18 \nCalvin Klein Outlet \nAll men’s and women’s apparel + outerwear 50% off \n*Some Exclusions Apply \nCalvin Klein Accessory Stores \nEntire Store Up To 50% off \n*Exclusions Apply
URL:https://gpoguam.com/event/calvin-klein-sale-2/
LOCATION:Calvin Klein
CATEGORIES:Sales
END:VEVENT
BEGIN:VEVENT
DTSTART;TZID=Pacific/Guam:20181118T110000
DTEND;TZID=Pacific/Guam:20181118T160000
DTSTAMP:20260424T092456
CREATED:20181031T050524Z
LAST-MODIFIED:20181031T050524Z
UID:10838-1542538800-1542556800@gpoguam.com
SUMMARY:Niigata Festival
DESCRIPTION:Niigata Festival will be held at GPO from 11am – 4pm by the Nike Store. \nEnjoy food\, products and arts & crafts made in Japan.
URL:https://gpoguam.com/event/niigata-festival/
LOCATION:Nike Store
CATEGORIES:Entertainment
END:VEVENT
END:VCALENDAR