BEGIN:VCALENDAR
VERSION:2.0
PRODID:-//GPO Guam - ECPv6.0.12//NONSGML v1.0//EN
CALSCALE:GREGORIAN
METHOD:PUBLISH
X-WR-CALNAME:GPO Guam
X-ORIGINAL-URL:https://gpoguam.com
X-WR-CALDESC:Events for GPO Guam
REFRESH-INTERVAL;VALUE=DURATION:PT1H
X-Robots-Tag:noindex
X-PUBLISHED-TTL:PT1H
BEGIN:VTIMEZONE
TZID:Pacific/Guam
BEGIN:STANDARD
TZOFFSETFROM:+1000
TZOFFSETTO:+1000
TZNAME:ChST
DTSTART:20180101T000000
END:STANDARD
END:VTIMEZONE
BEGIN:VEVENT
DTSTART;VALUE=DATE:20181030
DTEND;VALUE=DATE:20181105
DTSTAMP:20260424T104742
CREATED:20181031T045925Z
LAST-MODIFIED:20181031T045925Z
UID:10824-1540857600-1541375999@gpoguam.com
SUMMARY:Famous Footwear Sale
DESCRIPTION:Just the deal you were looking for. Save 15% in-store with this barcode now through 11/4.
URL:https://gpoguam.com/event/famous-footwear-sale/
LOCATION:Famous Footwear
CATEGORIES:Sales
END:VEVENT
BEGIN:VEVENT
DTSTART;TZID=Pacific/Guam:20181031T180000
DTEND;TZID=Pacific/Guam:20181031T180000
DTSTAMP:20260424T104742
CREATED:20181023T044516Z
LAST-MODIFIED:20181023T044516Z
UID:10808-1541008800-1541008800@gpoguam.com
SUMMARY:Halloween Trick or Treating
DESCRIPTION:Visit any store or kiosk and Trick or Treat GPO-style starting at 6pm!
URL:https://gpoguam.com/event/halloween-trick-or-treating/
END:VEVENT
BEGIN:VEVENT
DTSTART;TZID=Pacific/Guam:20181031T190000
DTEND;TZID=Pacific/Guam:20181031T190000
DTSTAMP:20260424T104742
CREATED:20181031T050217Z
LAST-MODIFIED:20181031T050217Z
UID:10829-1541012400-1541012400@gpoguam.com
SUMMARY:Halloween Trunk or Treat
DESCRIPTION:3MC Car Club Guam will host their first annual Trunk or Treat outside at the GPO Theater Plaza starting at 7pm. \nAll ages are welcome!
URL:https://gpoguam.com/event/halloween-trunk-or-treat/
LOCATION:Theater Plaza
CATEGORIES:Entertainment
END:VEVENT
END:VCALENDAR