BEGIN:VCALENDAR
VERSION:2.0
PRODID:-//GPO Guam - ECPv6.0.12//NONSGML v1.0//EN
CALSCALE:GREGORIAN
METHOD:PUBLISH
X-WR-CALNAME:GPO Guam
X-ORIGINAL-URL:https://gpoguam.com
X-WR-CALDESC:Events for GPO Guam
REFRESH-INTERVAL;VALUE=DURATION:PT1H
X-Robots-Tag:noindex
X-PUBLISHED-TTL:PT1H
BEGIN:VTIMEZONE
TZID:Australia/Melbourne
BEGIN:STANDARD
TZOFFSETFROM:+1100
TZOFFSETTO:+1000
TZNAME:AEST
DTSTART:20180331T160000
END:STANDARD
BEGIN:DAYLIGHT
TZOFFSETFROM:+1000
TZOFFSETTO:+1100
TZNAME:AEDT
DTSTART:20181006T160000
END:DAYLIGHT
END:VTIMEZONE
BEGIN:VEVENT
DTSTART;VALUE=DATE:20180924
DTEND;VALUE=DATE:20181004
DTSTAMP:20260424T120632
CREATED:20180822T233117Z
LAST-MODIFIED:20180822T235351Z
UID:10547-1537747200-1538611199@gpoguam.com
SUMMARY:Tommy Hilfiger Monday to Friday Sale
DESCRIPTION:Monday to Friday Style \nPresent this offer in-store and receive \n20% off your purchase of $150 or more or 15% off your entire purchase* \nSeptember 24-October 3                \nAll styles not available at all locations. May not be available on tommy.com. *THIS OFFER EXPIRES ON 10/3/18 and is redeemable for an amount up to the discount stated on this Offer and must be presented in-person at Tommy Hilfiger stores in the United States\, Puerto Rico\, and Guam. It may be used only once whether or not fully redeemed and must be surrendered at purchase with any remaining value of the Offer forfeited. Not redeemable for store credit or cash. The Offer may not be combined with any other promotion and has no cash value. It is not valid for previously purchased merchandise\, gift cards\, or Internet transactions. Any discount (as shown on the receipt) applied to merchandise that is returned will be deducted from any refund amount. Customer must present card at time of purchase to receive the Offer. Reproductions of the Offer will not be accepted. PVH associates not eligible. Not valid in department stores\, Clearance stores\, South Beach – FL\, 5th Ave. – NY\, Tommy Hilfiger stores in Canada\, or on tommy.com. Promo Code: 500018877000
URL:https://gpoguam.com/event/tommy-hilfiger-monday-to-friday-sale/
END:VEVENT
BEGIN:VEVENT
DTSTART;VALUE=DATE:20180927
DTEND;VALUE=DATE:20181001
DTSTAMP:20260424T120632
CREATED:20180822T234619Z
LAST-MODIFIED:20180822T234619Z
UID:10553-1538006400-1538351999@gpoguam.com
SUMMARY:Tommy Hilfiger Club Sale
DESCRIPTION:Hilfiger Club Exclusive \nPresent this & receive \n20% off your entire purchase* \nWhen you join the Hilfiger Club** \nSee a store associate to become a member of the club \nSeptember 27 – 30 \nAll styles not available at all locations. May not be available on tommy.com. *THIS OFFER EXPIRES ON 9/20/18 and is redeemable for an amount up to the discount stated on this Offer and must be presented in-person at Tommy Hilfiger stores in the United States\, Puerto Rico\, and Guam. It may be used only once whether or not fully redeemed and must be surrendered at purchase with any remaining value of the Offer forfeited. Not redeemable for store credit or cash. The Offer may not be combined with any other promotion and has no cash value. It is not valid for previously purchased merchandise or gift cards. Any discount (as shown on the receipt) applied to merchandise that is returned will be deducted from any refund amount. Customer must present card at time of purchase to receive the Offer. Reproductions of the Offer will not be accepted. PVH associates not eligible. Not valid in department stores\, Clearance stores\, or on tommy.com. **You may later unsubscribe. The entity using information as provided above is Tommy Hilfiger U.S.A.\, Inc.\, and can be reached by mailing Tommy Hilfiger Stores\, 285 Madison Avenue New York\, NY 10003 or emailing thservice@tommy.com. Promo Code: 500018878000
URL:https://gpoguam.com/event/tommy-hilfiger-club-sale/
LOCATION:Tommy Hilfiger
END:VEVENT
END:VCALENDAR