BEGIN:VCALENDAR
VERSION:2.0
PRODID:-//GPO Guam - ECPv6.0.12//NONSGML v1.0//EN
CALSCALE:GREGORIAN
METHOD:PUBLISH
X-WR-CALNAME:GPO Guam
X-ORIGINAL-URL:https://gpoguam.com
X-WR-CALDESC:Events for GPO Guam
REFRESH-INTERVAL;VALUE=DURATION:PT1H
X-Robots-Tag:noindex
X-PUBLISHED-TTL:PT1H
BEGIN:VTIMEZONE
TZID:Australia/Melbourne
BEGIN:STANDARD
TZOFFSETFROM:+1100
TZOFFSETTO:+1000
TZNAME:AEST
DTSTART:20180331T160000
END:STANDARD
BEGIN:DAYLIGHT
TZOFFSETFROM:+1000
TZOFFSETTO:+1100
TZNAME:AEDT
DTSTART:20181006T160000
END:DAYLIGHT
END:VTIMEZONE
BEGIN:VEVENT
DTSTART;VALUE=DATE:20180809
DTEND;VALUE=DATE:20180830
DTSTAMP:20260424T132251
CREATED:20180822T232405Z
LAST-MODIFIED:20180822T234344Z
UID:10536-1533772800-1535587199@gpoguam.com
SUMMARY:Tommy Hilfiger New Fall Arrival Sale & Denim Launch
DESCRIPTION:Tommy Hilfiger Denim Launch \nPresent this offer in-store and receive \n15% off your entire purchase when you buy a THD item** \nAugust 9-29 \nAll styles not available at all locations. May not be available on tommy.com \n**THIS OFFER EXPIRES ON 8/29/18 and is redeemable for an amount up to the discount stated on this Offer and must be presented in-person at Tommy Hilfiger stores in the United States\, Puerto Rico\, and Guam. It may be used only once whether or not fully redeemed and must be surrendered at purchase with any remaining value of the Offer forfeited. Not redeemable for store credit or cash. The Offer may not be combined with any other promotion and has no cash value. It is not valid for previously purchased merchandise\, gift cards\, or Internet transactions. Any discount (as shown on the receipt) applied to merchandise that is returned will be deducted from any refund amount. Customer must present card at time of purchase to receive the Offer. Reproductions of the Offer will not be accepted. PVH associates not eligible. Not valid in department stores\, Clearance stores\, South Beach – FL\, Garden State Plaza – NJ\, 5th Ave. – NY\, Tommy Hilfiger stores in Canada\, or on tommy.com. Promo Code: 500018873000 \n  \nNew Fall Arrivals \nUp to 50% off*  \nPlus\, present this offer in-store and receive \n25% off your purchase of $250+ or 20% off your purchase of $150+ or 15% off your entire purchase** \nAugust 9-29 \n*Original store price. Valid on select items. All styles not available at all locations. May not be available on tommy.com. **THIS OFFER EXPIRES ON 8/29/18 and is redeemable for an amount up to the discount stated on this Offer and must be presented in-person at Tommy Hilfiger stores in the United States\, Puerto Rico\, and Guam. It may be used only once whether or not fully redeemed and must be surrendered at purchase with any remaining value of the Offer forfeited. Not redeemable for store credit or cash. The Offer may not be combined with any other promotion and has no cash value. It is not valid for previously purchased merchandise\, gift cards\, or Internet transactions. Any discount (as shown on the receipt) applied to merchandise that is returned will be deducted from any refund amount. Customer must present card at time of purchase to receive the Offer. Reproductions of the Offer will not be accepted. PVH associates not eligible. Not valid in department stores\, Clearance stores\, South Beach – FL\, Garden State Plaza – NJ\, 5th Ave. – NY\, Tommy Hilfiger stores in Canada\, or on tommy.com. Promo Code: 500018874000
URL:https://gpoguam.com/event/tommy-hilfiger-new-fall-arrival-sale/
LOCATION:Tommy Hilfiger
END:VEVENT
BEGIN:VEVENT
DTSTART;VALUE=DATE:20180822
DTEND;VALUE=DATE:20180830
DTSTAMP:20260424T132251
CREATED:20180822T230416Z
LAST-MODIFIED:20180822T230611Z
UID:10527-1534896000-1535587199@gpoguam.com
SUMMARY:Calvin Klein 50% Off
DESCRIPTION:Shop iconic essentials at Calvin Klein Outlet & Calvin Klein Accessory Stores. Enjoy up to 50% off your purchase.\n*Exclusions Apply\n 
URL:https://gpoguam.com/event/calvin-klein-50-off-2/
LOCATION:Calvin Klein
END:VEVENT
END:VCALENDAR